BEGIN:VCALENDAR
VERSION:2.0
PRODID:-//Montecatini Terme Capitale Europea dello Sport - ECPv4.6.2//NONSGML v1.0//EN
CALSCALE:GREGORIAN
METHOD:PUBLISH
X-WR-CALNAME:Montecatini Terme Capitale Europea dello Sport
X-ORIGINAL-URL:https://www.montecatinisport.it
X-WR-CALDESC:Events for Montecatini Terme Capitale Europea dello Sport
BEGIN:VEVENT
DTSTART;TZID=Europe/Rome:20171227T080000
DTEND;TZID=Europe/Rome:20171230T190000
DTSTAMP:20260419T153314
CREATED:20170315T130858Z
LAST-MODIFIED:20171121T090622Z
UID:4035-1514361600-1514660400@www.montecatinisport.it
SUMMARY:XXVI Torneo Internazionale di Scacchi Città di Montecatini Terme
DESCRIPTION:XXVI Torneo Internazionale di Scacchi Città di Montecatini Terme \n
URL:https://www.montecatinisport.it/evento/xxvi-torneo-internazionale-di-scacchi-citta-di-montecatini-terme/
LOCATION:Via Cividale\, 86\, Montecatini Terme\, 51016\, Italia
CATEGORIES:Eventi e Manifestazioni
ATTACH;FMTTYPE=image/jpeg:https://www.montecatinisport.it/wp-content/uploads/2017/03/scacchi.jpg
END:VEVENT
END:VCALENDAR