BEGIN:VCALENDAR
VERSION:2.0
PRODID:-//Montecatini Terme Capitale Europea dello Sport - ECPv4.6.2//NONSGML v1.0//EN
CALSCALE:GREGORIAN
METHOD:PUBLISH
X-WR-CALNAME:Montecatini Terme Capitale Europea dello Sport
X-ORIGINAL-URL:https://www.montecatinisport.it
X-WR-CALDESC:Events for Montecatini Terme Capitale Europea dello Sport
BEGIN:VEVENT
DTSTART;VALUE=DATE:20171112
DTEND;VALUE=DATE:20171113
DTSTAMP:20260419T221706
CREATED:20170127T115727Z
LAST-MODIFIED:20170127T120104Z
UID:3885-1510444800-1510531199@www.montecatinisport.it
SUMMARY:"Tutti in gioco" Bocce
DESCRIPTION:Torneo nazionale di giochi aperti riservati a squadre composte da disabili e normodotati organizzato da FIB Toscana e Pistoia presso Bocciodromo \n
URL:https://www.montecatinisport.it/evento/tutti-in-gioco-bocce/
LOCATION:Via Maratona 14\, Montecatini Terme\, PT\, 51016\, Italia
CATEGORIES:Eventi e Manifestazioni
END:VEVENT
END:VCALENDAR