BEGIN:VCALENDAR
VERSION:2.0
PRODID:-//Montecatini Terme Capitale Europea dello Sport - ECPv4.6.2//NONSGML v1.0//EN
CALSCALE:GREGORIAN
METHOD:PUBLISH
X-WR-CALNAME:Montecatini Terme Capitale Europea dello Sport
X-ORIGINAL-URL:https://www.montecatinisport.it
X-WR-CALDESC:Events for Montecatini Terme Capitale Europea dello Sport
BEGIN:VEVENT
DTSTART;VALUE=DATE:20171021
DTEND;VALUE=DATE:20171022
DTSTAMP:20260419T190358
CREATED:20170127T115723Z
LAST-MODIFIED:20170127T121735Z
UID:3884-1508544000-1508630399@www.montecatinisport.it
SUMMARY:Gara Nazionale di Orienteering
DESCRIPTION:Gara Nazionale  organizzata da IK Prato \n
URL:https://www.montecatinisport.it/evento/gara-nazionale-di-orienteering/
CATEGORIES:Eventi e Manifestazioni
ORGANIZER;CN="IK%20Prato":MAILTO:info@ikprato.com
END:VEVENT
END:VCALENDAR