BEGIN:VCALENDAR
VERSION:2.0
PRODID:-//Montecatini Terme Capitale Europea dello Sport - ECPv4.6.2//NONSGML v1.0//EN
CALSCALE:GREGORIAN
METHOD:PUBLISH
X-WR-CALNAME:Montecatini Terme Capitale Europea dello Sport
X-ORIGINAL-URL:https://www.montecatinisport.it
X-WR-CALDESC:Events for Montecatini Terme Capitale Europea dello Sport
BEGIN:VEVENT
DTSTART;VALUE=DATE:20171014
DTEND;VALUE=DATE:20171015
DTSTAMP:20260419T172331
CREATED:20170127T115019Z
LAST-MODIFIED:20170127T115019Z
UID:3872-1507939200-1508025599@www.montecatinisport.it
SUMMARY:9^ edizione della “Corsa dei Camerieri”
DESCRIPTION:Competizione di livello nazionale  di 2Km aperta esclusivamente ai dipendenti di alberghi\, bar e ristoranti e agli allievi degli Istituti professionali ad indirizzo bar e ristorazione organizzata dall’Associazione Leggere Tutti \, nell’ambito dell’evento FOOD&BOOK \n
URL:https://www.montecatinisport.it/evento/9-edizione-della-corsa-dei-camerieri/
CATEGORIES:Eventi e Manifestazioni
ORGANIZER;CN="FOOD%26BOOK":MAILTO:info@inmontecatini.it,info@alexalberghiera.com
END:VEVENT
END:VCALENDAR