BEGIN:VCALENDAR
VERSION:2.0
PRODID:-//Montecatini Terme Capitale Europea dello Sport - ECPv4.6.2//NONSGML v1.0//EN
CALSCALE:GREGORIAN
METHOD:PUBLISH
X-WR-CALNAME:Montecatini Terme Capitale Europea dello Sport
X-ORIGINAL-URL:https://www.montecatinisport.it
X-WR-CALDESC:Events for Montecatini Terme Capitale Europea dello Sport
BEGIN:VEVENT
DTSTART;VALUE=DATE:20170917
DTEND;VALUE=DATE:20170918
DTSTAMP:20260419T203957
CREATED:20170127T101736Z
LAST-MODIFIED:20170127T101736Z
UID:3859-1505606400-1505692799@www.montecatinisport.it
SUMMARY:4^ Gran Fondo “Montecatini Terme Riccardo Magrini” Ciclismo
DESCRIPTION:Percorsi da 140/110/58 Km organizzata da Montecatini Terme e Sport A.s.d. \n
URL:https://www.montecatinisport.it/evento/4-gran-fondo-montecatini-terme-riccardo-magrini-ciclismo/
CATEGORIES:Eventi e Manifestazioni
END:VEVENT
END:VCALENDAR