BEGIN:VCALENDAR
VERSION:2.0
PRODID:-//Montecatini Terme Capitale Europea dello Sport - ECPv4.6.2//NONSGML v1.0//EN
CALSCALE:GREGORIAN
METHOD:PUBLISH
X-WR-CALNAME:Montecatini Terme Capitale Europea dello Sport
X-ORIGINAL-URL:https://www.montecatinisport.it
X-WR-CALDESC:Events for Montecatini Terme Capitale Europea dello Sport
BEGIN:VEVENT
DTSTART;VALUE=DATE:20170923
DTEND;VALUE=DATE:20170926
DTSTAMP:20260419T202113
CREATED:20170127T115731Z
LAST-MODIFIED:20170927T163906Z
UID:3887-1506124800-1506383999@www.montecatinisport.it
SUMMARY:1° Torneo “Città di Montecatini” Basket Rossoblù
DESCRIPTION:Torneo di Basket riservato alle categorie U/18 e U/20 organizzato da Basket Rossoblù presso “Palavinci” \n
URL:https://www.montecatinisport.it/evento/3-trofeo-4-biker-di-basket/
LOCATION:Viale Leonardo Da Vinci\, 50\, Montecatini Terme\, PT\, 51016\, Italia
CATEGORIES:Eventi e Manifestazioni
END:VEVENT
END:VCALENDAR